BEGIN:VCALENDAR
VERSION:2.0
PRODID:-//TradingCardCalendar.com - ECPv6.15.18//NONSGML v1.0//EN
CALSCALE:GREGORIAN
METHOD:PUBLISH
X-WR-CALNAME:TradingCardCalendar.com
X-ORIGINAL-URL:https://tradingcardcalendar.com
X-WR-CALDESC:Events for TradingCardCalendar.com
REFRESH-INTERVAL;VALUE=DURATION:PT1H
X-Robots-Tag:noindex
X-PUBLISHED-TTL:PT1H
BEGIN:VTIMEZONE
TZID:America/Los_Angeles
BEGIN:DAYLIGHT
TZOFFSETFROM:-0800
TZOFFSETTO:-0700
TZNAME:PDT
DTSTART:20250309T100000
END:DAYLIGHT
BEGIN:STANDARD
TZOFFSETFROM:-0700
TZOFFSETTO:-0800
TZNAME:PST
DTSTART:20251102T090000
END:STANDARD
BEGIN:DAYLIGHT
TZOFFSETFROM:-0800
TZOFFSETTO:-0700
TZNAME:PDT
DTSTART:20260308T100000
END:DAYLIGHT
BEGIN:STANDARD
TZOFFSETFROM:-0700
TZOFFSETTO:-0800
TZNAME:PST
DTSTART:20261101T090000
END:STANDARD
BEGIN:DAYLIGHT
TZOFFSETFROM:-0800
TZOFFSETTO:-0700
TZNAME:PDT
DTSTART:20270314T100000
END:DAYLIGHT
BEGIN:STANDARD
TZOFFSETFROM:-0700
TZOFFSETTO:-0800
TZNAME:PST
DTSTART:20271107T090000
END:STANDARD
END:VTIMEZONE
BEGIN:VEVENT
DTSTART;TZID=America/Los_Angeles:20260422T190000
DTEND;TZID=America/Los_Angeles:20260422T223000
DTSTAMP:20260422T015214
CREATED:20260330T072518Z
LAST-MODIFIED:20260330T072519Z
UID:10000050-1776884400-1776897000@tradingcardcalendar.com
SUMMARY:Blowout Cards Super Break: Multi-Sport Case Break
DESCRIPTION:Blowout’s signature multi-sport case break event. Baseball\, basketball\, football\, and hockey all in one epic session.
URL:https://tradingcardcalendar.com/event/blowout-cards-super-break-multi-sport-case-break/
CATEGORIES:Breaks / Programs / Podcasts
ATTACH;FMTTYPE=image/jpeg:https://tradingcardcalendar.com/wp-content/uploads/2026/03/tcc08.jpg
END:VEVENT
BEGIN:VEVENT
DTSTART;TZID=America/Los_Angeles:20260423T000000
DTEND;TZID=America/Los_Angeles:20260423T235900
DTSTAMP:20260422T015214
CREATED:20260330T072540Z
LAST-MODIFIED:20260330T072541Z
UID:10000060-1776902400-1776988740@tradingcardcalendar.com
SUMMARY:Pokemon Stellar Crown Booster Bundle Release
DESCRIPTION:New Pokemon TCG expansion release. Stellar Crown booster bundles available at hobby shops\, Target\, and Walmart starting at midnight.
URL:https://tradingcardcalendar.com/event/pokemon-stellar-crown-booster-bundle-release/
CATEGORIES:Releases
ATTACH;FMTTYPE=image/jpeg:https://tradingcardcalendar.com/wp-content/uploads/2026/03/tcc18.jpg
END:VEVENT
BEGIN:VEVENT
DTSTART;TZID=America/Los_Angeles:20260424T180000
DTEND;TZID=America/Los_Angeles:20260425T235900
DTSTAMP:20260422T015214
CREATED:20260330T072510Z
LAST-MODIFIED:20260330T072511Z
UID:10000046-1777053600-1777161540@tradingcardcalendar.com
SUMMARY:Pristine Auction Weekly Sports Cards Event
DESCRIPTION:High-quality raw and graded cards at competitive prices. Live bidding on over 500 lots every week.
URL:https://tradingcardcalendar.com/event/pristine-auction-weekly-sports-cards-event/
CATEGORIES:Sales / Auctions
ATTACH;FMTTYPE=image/jpeg:https://tradingcardcalendar.com/wp-content/uploads/2026/03/tcc04.jpg
END:VEVENT
BEGIN:VEVENT
DTSTART;TZID=America/Los_Angeles:20260425T000000
DTEND;TZID=America/Los_Angeles:20260425T235900
DTSTAMP:20260422T015214
CREATED:20260325T071315Z
LAST-MODIFIED:20260325T071315Z
UID:10000032-1777075200-1777161540@tradingcardcalendar.com
SUMMARY:Tristar Promotions — Derek Jeter Private Signing
DESCRIPTION:Tristar Promotions presents a Derek Jeter private signing. Submit your items for Jeter’s authenticated signature. Accepted items: baseballs\, bats\, jerseys\, lithographs\, and flat cards. Limited to 500 total signatures. Deadline to submit: April 20.
URL:https://tradingcardcalendar.com/event/tristar-promotions-derek-jeter-private-signing/
CATEGORIES:Signings
END:VEVENT
BEGIN:VEVENT
DTSTART;TZID=America/Los_Angeles:20260425T000000
DTEND;TZID=America/Los_Angeles:20260425T235900
DTSTAMP:20260422T015214
CREATED:20260325T071315Z
LAST-MODIFIED:20260325T071315Z
UID:10000036-1777075200-1777161540@tradingcardcalendar.com
SUMMARY:Pokemon TCG — Scarlet & Violet: Destined Rivals Release
DESCRIPTION:The latest Pokemon TCG expansion drops at local game stores and online retailers. Features new ex cards\, illustration rares\, and the debut of new Paradox Pokemon. Pre-release events at participating LGS the weekend before.
URL:https://tradingcardcalendar.com/event/pokemon-tcg-scarlet-violet-destined-rivals-release/
CATEGORIES:Releases
END:VEVENT
BEGIN:VEVENT
DTSTART;TZID=America/Los_Angeles:20260425T090000
DTEND;TZID=America/Los_Angeles:20260426T160000
DTSTAMP:20260422T015214
CREATED:20260330T072523Z
LAST-MODIFIED:20260330T072524Z
UID:10000052-1777107600-1777219200@tradingcardcalendar.com
SUMMARY:Chicago Midwest Card Collectors Show
DESCRIPTION:One of the Midwest’s largest card shows. Dealers from across the country\, vintage cards\, autographs\, and memorabilia. Admission $10.
URL:https://tradingcardcalendar.com/event/chicago-midwest-card-collectors-show/
CATEGORIES:Conventions / Shows
ATTACH;FMTTYPE=image/jpeg:https://tradingcardcalendar.com/wp-content/uploads/2026/03/tcc10.jpg
END:VEVENT
BEGIN:VEVENT
DTSTART;TZID=America/Los_Angeles:20260428T100000
DTEND;TZID=America/Los_Angeles:20260428T150000
DTSTAMP:20260422T015214
CREATED:20260330T072532Z
LAST-MODIFIED:20260330T072533Z
UID:10000056-1777370400-1777388400@tradingcardcalendar.com
SUMMARY:Derek Jeter Private Signing — Steiner Sports
DESCRIPTION:Rare Derek Jeter signing opportunity. Limited edition items only. Steiner Sports certification and COA included with every item.
URL:https://tradingcardcalendar.com/event/derek-jeter-private-signing-steiner-sports/
CATEGORIES:Signings
ATTACH;FMTTYPE=image/jpeg:https://tradingcardcalendar.com/wp-content/uploads/2026/03/tcc14.jpg
END:VEVENT
BEGIN:VEVENT
DTSTART;TZID=America/Los_Angeles:20260502T000000
DTEND;TZID=America/Los_Angeles:20260502T235900
DTSTAMP:20260422T015214
CREATED:20260306T033230Z
LAST-MODIFIED:20260306T033230Z
UID:10000005-1777680000-1777766340@tradingcardcalendar.com
SUMMARY:Pokémon TCG: Destined Rivals Set Release
DESCRIPTION:The latest Pokémon TCG expansion arrives at hobby stores worldwide. Prerelease events the weekend prior.
URL:https://tradingcardcalendar.com/event/pokemon-tcg-destined-rivals-set-release/
CATEGORIES:Releases
END:VEVENT
BEGIN:VEVENT
DTSTART;TZID=America/Los_Angeles:20260502T000000
DTEND;TZID=America/Los_Angeles:20260502T235900
DTSTAMP:20260422T015214
CREATED:20260325T071316Z
LAST-MODIFIED:20260325T071316Z
UID:10000037-1777680000-1777766340@tradingcardcalendar.com
SUMMARY:Upper Deck Authenticated — Shohei Ohtani Signing
DESCRIPTION:Upper Deck Authenticated presents an exclusive Shohei Ohtani signing. Items must be submitted through authorized UDA dealers. Edition limited to 200 pieces total. Available items: UDA exclusive photos\, baseballs\, and bats.
URL:https://tradingcardcalendar.com/event/upper-deck-authenticated-shohei-ohtani-signing/
CATEGORIES:Signings
END:VEVENT
BEGIN:VEVENT
DTSTART;TZID=America/Los_Angeles:20260502T090000
DTEND;TZID=America/Los_Angeles:20260503T170000
DTSTAMP:20260422T015214
CREATED:20260330T072525Z
LAST-MODIFIED:20260330T072526Z
UID:10000053-1777712400-1777827600@tradingcardcalendar.com
SUMMARY:Dallas Spring Sports Collectors Show
DESCRIPTION:Dallas’s top card show returns for spring. Featuring dealers\, breakers\, and collector meet-ups. Admission $5. Family friendly.
URL:https://tradingcardcalendar.com/event/dallas-spring-sports-collectors-show/
CATEGORIES:Conventions / Shows
ATTACH;FMTTYPE=image/jpeg:https://tradingcardcalendar.com/wp-content/uploads/2026/03/tcc11.jpg
END:VEVENT
BEGIN:VEVENT
DTSTART;TZID=America/Los_Angeles:20260510T110000
DTEND;TZID=America/Los_Angeles:20260510T160000
DTSTAMP:20260422T015214
CREATED:20260330T072534Z
LAST-MODIFIED:20260330T072535Z
UID:10000057-1778410800-1778428800@tradingcardcalendar.com
SUMMARY:Magic Johnson & Larry Bird Dual Signing — Upper Deck
DESCRIPTION:Exclusive dual signing event with two of basketball’s all-time greats. Upper Deck Authenticated. Extremely limited quantities. Reserve now.
URL:https://tradingcardcalendar.com/event/magic-johnson-larry-bird-dual-signing-upper-deck/
CATEGORIES:Signings
ATTACH;FMTTYPE=image/jpeg:https://tradingcardcalendar.com/wp-content/uploads/2026/03/tcc15.jpg
END:VEVENT
BEGIN:VEVENT
DTSTART;TZID=America/Los_Angeles:20260515T000000
DTEND;TZID=America/Los_Angeles:20260515T235900
DTSTAMP:20260422T015214
CREATED:20260306T033237Z
LAST-MODIFIED:20260306T033237Z
UID:10000020-1778803200-1778889540@tradingcardcalendar.com
SUMMARY:2026 Bowman Baseball Draft Picks Release
DESCRIPTION:Bowman Draft Picks & Prospects Baseball arrives featuring the top MLB Draft selections. Key prospect autographs and Chrome parallels.
URL:https://tradingcardcalendar.com/event/2026-bowman-baseball-draft-picks-release/
CATEGORIES:Releases
END:VEVENT
BEGIN:VEVENT
DTSTART;TZID=America/Los_Angeles:20260722T090000
DTEND;TZID=America/Los_Angeles:20260726T180000
DTSTAMP:20260422T015214
CREATED:20260306T033229Z
LAST-MODIFIED:20260306T033229Z
UID:10000002-1784710800-1785088800@tradingcardcalendar.com
SUMMARY:National Sports Collectors Convention 2026
DESCRIPTION:The world’s largest sports collectibles show returns to Cleveland\, OH. Thousands of dealers\, autograph signers\, and collectors under one roof.
URL:https://tradingcardcalendar.com/event/national-sports-collectors-convention-2026/
CATEGORIES:Conventions / Shows
END:VEVENT
BEGIN:VEVENT
DTSTART;TZID=America/Los_Angeles:20260728T090000
DTEND;TZID=America/Los_Angeles:20260801T180000
DTSTAMP:20260422T015214
CREATED:20260330T072527Z
LAST-MODIFIED:20260330T072528Z
UID:10000054-1785229200-1785607200@tradingcardcalendar.com
SUMMARY:National Sports Collectors Convention 2026
DESCRIPTION:The biggest event in the hobby. 100\,000+ attendees\, 500+ dealers\, exclusive show releases\, special guests. Cleveland\, Ohio.
URL:https://tradingcardcalendar.com/event/national-sports-collectors-convention-2026-3/
CATEGORIES:Conventions / Shows
ATTACH;FMTTYPE=image/jpeg:https://tradingcardcalendar.com/wp-content/uploads/2026/03/tcc12.jpg
END:VEVENT
BEGIN:VEVENT
DTSTART;TZID=America/Los_Angeles:20260729T100000
DTEND;TZID=America/Los_Angeles:20260802T180000
DTSTAMP:20260422T015214
CREATED:20260325T071316Z
LAST-MODIFIED:20260325T071316Z
UID:10000039-1785319200-1785693600@tradingcardcalendar.com
SUMMARY:National Sports Collectors Convention 2026
DESCRIPTION:The biggest trading card and sports memorabilia show in the world returns to Chicago. 700+ dealers\, autograph signings\, PSA/BGS/SGC grading on-site\, vintage and modern card marketplace. 5-day event. Free admission for kids under 12.
URL:https://tradingcardcalendar.com/event/national-sports-collectors-convention-2026-2/
CATEGORIES:Conventions / Shows
END:VEVENT
END:VCALENDAR